
BEGIN:VCALENDAR
PRODID:-//Feedo Feed//NONSGML v1.0//EN
VERSION:2.0
CALSCALE:GREGORIAN
METHOD:PUBLISH
X-WR-CALNAME:Neujahrs-Gottesdienst in neuer Form
X-WR-CALDESC:Am 01. Januar 2014 spielen wir 17:00 Uhr im Gemeindehaus der Andreaskirchgemeinde Leipzig in der Scharnhorststraße 29 zum Neujahrs-Gottesdienst in neuer Form.
X-MS-OLK-FORCEINSPECTOROPEN:TRUE
BEGIN:VEVENT
DTSTAMP:20260421T125935Z
DTSTART:20140101T160000Z
DTEND:20140101T160000Z
TRANSP:TRANSPARENT
UID:12014-01-01
SUMMARY:Neujahrs-Gottesdienst in neuer Form
DESCRIPTION:Am 01. Januar 2014 spielen wir 17:00 Uhr im Gemeindehaus der Andreaskirchgemeinde Leipzig in der Scharnhorststraße 29 zum Neujahrs-Gottesdienst in neuer Form.
URL:http://www.angelalenk.de/erleben/neujahrs-gottesdienst-in-neuer-form?format=html
CATEGORIES:Konzert
GEO:51.31992;12.375340000000051
LOCATION:Ev.-Luth. Andreasgemeinde, Gemeindehaus
END:VEVENT
END:VCALENDAR