
BEGIN:VCALENDAR
PRODID:-//Feedo Feed//NONSGML v1.0//EN
VERSION:2.0
CALSCALE:GREGORIAN
METHOD:PUBLISH
X-WR-CALNAME:Nacht der Lieder
X-WR-CALDESC:
X-MS-OLK-FORCEINSPECTOROPEN:TRUE
BEGIN:VEVENT
DTSTAMP:20260421T130334Z
DTSTART:20161120T170000Z
DTEND:20161120T170000Z
TRANSP:TRANSPARENT
UID:172016-11-20
SUMMARY:Nacht der Lieder
DESCRIPTION:
URL:http://www.angelalenk.de/erleben/nacht-der-lieder?format=html
CATEGORIES:Konzert
GEO:
LOCATION:Nikolaikirche
END:VEVENT
END:VCALENDAR