
BEGIN:VCALENDAR
PRODID:-//Feedo Feed//NONSGML v1.0//EN
VERSION:2.0
CALSCALE:GREGORIAN
METHOD:PUBLISH
X-WR-CALNAME:Live zu zweit
X-WR-CALDESC:Lutherkirche
X-MS-OLK-FORCEINSPECTOROPEN:TRUE
BEGIN:VEVENT
DTSTAMP:20260421T130237Z
DTSTART:20151010T040000Z
DTEND:20151010T040000Z
TRANSP:TRANSPARENT
UID:162015-10-10
SUMMARY:Live zu zweit
DESCRIPTION:Lutherkirche
URL:http://www.angelalenk.de/erleben/live-zu-zweit?format=html
CATEGORIES:Konzert
GEO:50.82257999999999;12.937919999999963
LOCATION:Lutherkirche
END:VEVENT
END:VCALENDAR