
BEGIN:VCALENDAR
PRODID:-//Feedo Feed//NONSGML v1.0//EN
VERSION:2.0
CALSCALE:GREGORIAN
METHOD:PUBLISH
X-WR-CALNAME:Live mit Band
X-WR-CALDESC:
X-MS-OLK-FORCEINSPECTOROPEN:TRUE
BEGIN:VEVENT
DTSTAMP:20260421T125413Z
DTSTART:20150222T093000Z
DTEND:20150222T093000Z
TRANSP:TRANSPARENT
UID:112015-02-22
SUMMARY:Live mit Band
DESCRIPTION:
URL:http://www.angelalenk.de/erleben/live-mit-band?format=html
CATEGORIES:Gottesdienst
GEO:51.31677173743333;12.40000037514642
LOCATION:Pavillon der Hoffnung
END:VEVENT
END:VCALENDAR