
BEGIN:VCALENDAR
PRODID:-//Feedo Feed//NONSGML v1.0//EN
VERSION:2.0
CALSCALE:GREGORIAN
METHOD:PUBLISH
X-WR-CALNAME:Live mit Band im Advent 
X-WR-CALDESC:...und zwar der 4. Advent\nLasst uns noch mal innehalten im Weihnachts-Endspurt
X-MS-OLK-FORCEINSPECTOROPEN:TRUE
BEGIN:VEVENT
DTSTAMP:20260421T125602Z
DTSTART:20141221T093000Z
DTEND:20141221T093000Z
TRANSP:TRANSPARENT
UID:92014-12-21
SUMMARY:Live mit Band im Advent 
DESCRIPTION:...und zwar der 4. Advent\nLasst uns noch mal innehalten im Weihnachts-Endspurt
URL:http://www.angelalenk.de/erleben/live-mit-band-im-advent-1?format=html
CATEGORIES:Gottesdienst
GEO:51.31677173743333;12.40000037514642
LOCATION:Pavillon der Hoffnung
END:VEVENT
END:VCALENDAR