
BEGIN:VCALENDAR
PRODID:-//Feedo Feed//NONSGML v1.0//EN
VERSION:2.0
CALSCALE:GREGORIAN
METHOD:PUBLISH
X-WR-CALNAME:Live mit Band
X-WR-CALDESC:Abschluss der Herrlichkeitskonferenz\nJa, ich weiÃ, "Herrlichkeit" ist ein schwieriges Wort. Hab ich mir nicht ausgedacht.\nWir machen einfach, was wir am besten kÃ¶nnen. Mehr muss ich nicht tun oder sagen.\nAlte Messe, Halle 14\nSchÃ¶n wirdÂ´s, freu mich auf euch
X-MS-OLK-FORCEINSPECTOROPEN:TRUE
BEGIN:VEVENT
DTSTAMP:20260421T125305Z
DTSTART:20151011T093000Z
DTEND:20151011T093000Z
TRANSP:TRANSPARENT
UID:152015-10-11
SUMMARY:Live mit Band
DESCRIPTION:Abschluss der Herrlichkeitskonferenz\nJa, ich weiÃ, "Herrlichkeit" ist ein schwieriges Wort. Hab ich mir nicht ausgedacht.\nWir machen einfach, was wir am besten kÃ¶nnen. Mehr muss ich nicht tun oder sagen.\nAlte Messe, Halle 14\nSchÃ¶n wirdÂ´s, freu mich auf euch
URL:http://www.angelalenk.de/erleben/live-mit-band-3?format=html
CATEGORIES:Gottesdienst
GEO:51.31677173743333;12.40000037514642
LOCATION:Pavillon der Hoffnung
END:VEVENT
END:VCALENDAR