
BEGIN:VCALENDAR
PRODID:-//Feedo Feed//NONSGML v1.0//EN
VERSION:2.0
CALSCALE:GREGORIAN
METHOD:PUBLISH
X-WR-CALNAME:Live als Familienband
X-WR-CALDESC:
X-MS-OLK-FORCEINSPECTOROPEN:TRUE
BEGIN:VEVENT
DTSTAMP:20260421T125613Z
DTSTART:20150510T093000Z
DTEND:20150510T093000Z
TRANSP:TRANSPARENT
UID:132015-05-10
SUMMARY:Live als Familienband
DESCRIPTION:
URL:http://www.angelalenk.de/erleben/live-als-familienband?format=html
CATEGORIES:Gottesdienst
GEO:51.31677173743333;12.40000037514642
LOCATION:Pavillon der Hoffnung
END:VEVENT
END:VCALENDAR