
BEGIN:VCALENDAR
PRODID:-//Feedo Feed//NONSGML v1.0//EN
VERSION:2.0
CALSCALE:GREGORIAN
METHOD:PUBLISH
X-WR-CALNAME:  Live mit Band
X-WR-CALDESC:
X-MS-OLK-FORCEINSPECTOROPEN:TRUE
BEGIN:VEVENT
DTSTAMP:20260421T125545Z
DTSTART:20141019T093000Z
DTEND:20141019T093000Z
TRANSP:TRANSPARENT
UID:62014-10-19
SUMMARY:  Live mit Band
DESCRIPTION:
URL:http://www.angelalenk.de/erleben/-1?format=html
CATEGORIES:Konzert
GEO:51.31677173743333;12.40000037514642
LOCATION:Pavillon der Hoffnung
END:VEVENT
END:VCALENDAR