
BEGIN:VCALENDAR
PRODID:-//Feedo Feed//NONSGML v1.0//EN
VERSION:2.0
CALSCALE:GREGORIAN
METHOD:PUBLISH
X-WR-CALNAME:Live mit Band
X-WR-CALDESC:Mit frischen Ohren aus den Ferien
X-MS-OLK-FORCEINSPECTOROPEN:TRUE
BEGIN:VEVENT
DTSTAMP:20260421T142504Z
DTSTART:20150823T093000Z
DTEND:20150823T093000Z
TRANSP:TRANSPARENT
UID:142015-08-23
SUMMARY:Live mit Band
DESCRIPTION:Mit frischen Ohren aus den Ferien
URL:http://www.angelalenk.de/erleben/live-mit-band-2?format=html
CATEGORIES:Gottesdienst
GEO:51.31677173743333;12.40000037514642
LOCATION:Pavillon der Hoffnung
END:VEVENT
END:VCALENDAR