
BEGIN:VCALENDAR
PRODID:-//Feedo Feed//NONSGML v1.0//EN
VERSION:2.0
CALSCALE:GREGORIAN
METHOD:PUBLISH
X-WR-CALNAME:Live mit Band 
X-WR-CALDESC:10.30 Uhr\nEintritt frei
X-MS-OLK-FORCEINSPECTOROPEN:TRUE
BEGIN:VEVENT
DTSTAMP:20260421T141921Z
DTSTART:20150426T093000Z
DTEND:20150426T093000Z
TRANSP:TRANSPARENT
UID:122015-04-26
SUMMARY:Live mit Band 
DESCRIPTION:10.30 Uhr\nEintritt frei
URL:http://www.angelalenk.de/erleben/live-mit-band-1?format=html
CATEGORIES:Gottesdienst
GEO:51.31677173743333;12.40000037514642
LOCATION:Pavillon der Hoffnung
END:VEVENT
END:VCALENDAR