
BEGIN:VCALENDAR
PRODID:-//Feedo Feed//NONSGML v1.0//EN
VERSION:2.0
CALSCALE:GREGORIAN
METHOD:PUBLISH
X-WR-CALNAME:Kulturbühne Bad Blankenburg
X-WR-CALDESC:direkt an der idyllischen Schwarza, bei der Stadthalle im Café Flair mit Open-Air-Charakter\nakustisch und locker
X-MS-OLK-FORCEINSPECTOROPEN:TRUE
BEGIN:VEVENT
DTSTAMP:20260421T143740Z
DTSTART:20140802T193000Z
DTEND:20140802T193000Z
TRANSP:TRANSPARENT
UID:42014-08-02
SUMMARY:Kulturbühne Bad Blankenburg
DESCRIPTION:direkt an der idyllischen Schwarza, bei der Stadthalle im Café Flair mit Open-Air-Charakter\nakustisch und locker
URL:http://www.angelalenk.de/erleben/kulturbuehne-bad-blankenburg?format=html
CATEGORIES:Konzert
GEO:50.68339;11.271479999999997
LOCATION:Kulturbühne
END:VEVENT
END:VCALENDAR