
BEGIN:VCALENDAR
PRODID:-//Feedo Feed//NONSGML v1.0//EN
VERSION:2.0
CALSCALE:GREGORIAN
METHOD:PUBLISH
X-WR-CALNAME:Konzert in Wolfhagen, Viesebeck
X-WR-CALDESC:Konzert in Wolfhagen, Viesebeck am Pfingstsonntag 2014. Wir spielen viele Songs der CD und einige englische für die Gäste aus New York.
X-MS-OLK-FORCEINSPECTOROPEN:TRUE
BEGIN:VEVENT
DTSTAMP:20260421T144334Z
DTSTART:20140608T170000Z
DTEND:20140608T170000Z
TRANSP:TRANSPARENT
UID:32014-06-08
SUMMARY:Konzert in Wolfhagen, Viesebeck
DESCRIPTION:Konzert in Wolfhagen, Viesebeck am Pfingstsonntag 2014. Wir spielen viele Songs der CD und einige englische für die Gäste aus New York.
URL:http://www.angelalenk.de/erleben/konzert-in-wolfhagen-viesebeck?format=html
CATEGORIES:Konzert
GEO:51.35733851254613;9.134679796295131
LOCATION:Kirche zu Viesebeck
END:VEVENT
END:VCALENDAR